BEGIN:VCALENDAR
VERSION:2.0
PRODID:-//Arfrade - ECPv6.15.18//NONSGML v1.0//EN
CALSCALE:GREGORIAN
METHOD:PUBLISH
X-ORIGINAL-URL:https://www.arfrade.de
X-WR-CALDESC:Veranstaltungen für Arfrade
REFRESH-INTERVAL;VALUE=DURATION:PT1H
X-Robots-Tag:noindex
X-PUBLISHED-TTL:PT1H
BEGIN:VTIMEZONE
TZID:Europe/Berlin
BEGIN:DAYLIGHT
TZOFFSETFROM:+0100
TZOFFSETTO:+0200
TZNAME:CEST
DTSTART:20230326T010000
END:DAYLIGHT
BEGIN:STANDARD
TZOFFSETFROM:+0200
TZOFFSETTO:+0100
TZNAME:CET
DTSTART:20231029T010000
END:STANDARD
BEGIN:DAYLIGHT
TZOFFSETFROM:+0100
TZOFFSETTO:+0200
TZNAME:CEST
DTSTART:20240331T010000
END:DAYLIGHT
BEGIN:STANDARD
TZOFFSETFROM:+0200
TZOFFSETTO:+0100
TZNAME:CET
DTSTART:20241027T010000
END:STANDARD
BEGIN:DAYLIGHT
TZOFFSETFROM:+0100
TZOFFSETTO:+0200
TZNAME:CEST
DTSTART:20250330T010000
END:DAYLIGHT
BEGIN:STANDARD
TZOFFSETFROM:+0200
TZOFFSETTO:+0100
TZNAME:CET
DTSTART:20251026T010000
END:STANDARD
END:VTIMEZONE
BEGIN:VEVENT
DTSTART;TZID=Europe/Berlin:20240203T160000
DTEND;TZID=Europe/Berlin:20240203T220000
DTSTAMP:20260421T144026
CREATED:20240123T161035Z
LAST-MODIFIED:20240122T161244Z
UID:3379-1706976000-1706997600@www.arfrade.de
SUMMARY:Klönschnack Arfrade
DESCRIPTION:Klönschnack Arfrade \n\nTermin: Samstag\, 03. Februar 2024\, 16:00 Uhr\nOrt: Feuerwehrgerätehaus Arfrade\, Hauptstraße 16A. \n\nDer Dorfvorstand wünscht allen Arfrader:innen ein frohes neues und gesundes neues Jahr 2024\nUm das neue Jahr einzuläuten möchten wir zu einem gemütlichen „Klönschnack“ mit Punsch\, Käsebrotenund Waffeln einladen.\nWir treffen uns\, bei hoffentlich schönem Winterwetter am Samstag\, den 03. Februar 2024 ab 16.00 Uhr am Feuerwehrhaus. \nWir freuen uns auf Eurer Kommen.\n-Dorfvorstand Arfrade-
URL:https://www.arfrade.de/termine/kloenschnack-arfrade-2/
LOCATION:Feuerwehrhaus\, Hauptstraße 16\, Arfrade\, 23617\, Deutschland
END:VEVENT
END:VCALENDAR